BEGIN:VCALENDAR
VERSION:2.0
PRODID:-//𝘈𝘵 𝘓𝘪𝘣𝘦𝘳𝘵𝘺 CONNECTIONS - ECPv6.15.20//NONSGML v1.0//EN
CALSCALE:GREGORIAN
METHOD:PUBLISH
X-ORIGINAL-URL:https://atlibertyconnections.org
X-WR-CALDESC:Events for 𝘈𝘵 𝘓𝘪𝘣𝘦𝘳𝘵𝘺 CONNECTIONS
REFRESH-INTERVAL;VALUE=DURATION:PT1H
X-Robots-Tag:noindex
X-PUBLISHED-TTL:PT1H
BEGIN:VTIMEZONE
TZID:America/New_York
BEGIN:DAYLIGHT
TZOFFSETFROM:-0500
TZOFFSETTO:-0400
TZNAME:EDT
DTSTART:20230312T070000
END:DAYLIGHT
BEGIN:STANDARD
TZOFFSETFROM:-0400
TZOFFSETTO:-0500
TZNAME:EST
DTSTART:20231105T060000
END:STANDARD
BEGIN:DAYLIGHT
TZOFFSETFROM:-0500
TZOFFSETTO:-0400
TZNAME:EDT
DTSTART:20240310T070000
END:DAYLIGHT
BEGIN:STANDARD
TZOFFSETFROM:-0400
TZOFFSETTO:-0500
TZNAME:EST
DTSTART:20241103T060000
END:STANDARD
BEGIN:DAYLIGHT
TZOFFSETFROM:-0500
TZOFFSETTO:-0400
TZNAME:EDT
DTSTART:20250309T070000
END:DAYLIGHT
BEGIN:STANDARD
TZOFFSETFROM:-0400
TZOFFSETTO:-0500
TZNAME:EST
DTSTART:20251102T060000
END:STANDARD
END:VTIMEZONE
BEGIN:VEVENT
DTSTART;VALUE=DATE:20240823
DTEND;VALUE=DATE:20240826
DTSTAMP:20260426T000751
CREATED:20240209T184024Z
LAST-MODIFIED:20240524T190208Z
UID:997-1724371200-1724630399@atlibertyconnections.org
SUMMARY:Women Veterans Temple NH
DESCRIPTION:Experience a quiet presence and a sense of belonging through equine interaction. Come join us and feel the healing power of the horse.
URL:https://atlibertyconnections.org/event/women-veterans-temple-nh/
LOCATION:UpReach Therapeutic Equestrian Center\, 153 Paige Hill Road\, Goffstown\, NH\, 03045\, United States
CATEGORIES:Veteran Retreats
ATTACH;FMTTYPE=image/jpeg:https://atlibertyconnections.org/wp-content/uploads/2024/02/women-riding-horses-at-sunset.jpg
ORGANIZER;CN="Dr. Kathleen Roth":MAILTO:info@atlibertyconnections.org
END:VEVENT
END:VCALENDAR