BEGIN:VCALENDAR
VERSION:2.0
PRODID:-//𝘈𝘵 𝘓𝘪𝘣𝘦𝘳𝘵𝘺 CONNECTIONS - ECPv6.15.20//NONSGML v1.0//EN
CALSCALE:GREGORIAN
METHOD:PUBLISH
X-WR-CALNAME:𝘈𝘵 𝘓𝘪𝘣𝘦𝘳𝘵𝘺 CONNECTIONS
X-ORIGINAL-URL:https://atlibertyconnections.org
X-WR-CALDESC:Events for 𝘈𝘵 𝘓𝘪𝘣𝘦𝘳𝘵𝘺 CONNECTIONS
REFRESH-INTERVAL;VALUE=DURATION:PT1H
X-Robots-Tag:noindex
X-PUBLISHED-TTL:PT1H
BEGIN:VTIMEZONE
TZID:America/New_York
BEGIN:DAYLIGHT
TZOFFSETFROM:-0500
TZOFFSETTO:-0400
TZNAME:EDT
DTSTART:20250309T070000
END:DAYLIGHT
BEGIN:STANDARD
TZOFFSETFROM:-0400
TZOFFSETTO:-0500
TZNAME:EST
DTSTART:20251102T060000
END:STANDARD
BEGIN:DAYLIGHT
TZOFFSETFROM:-0500
TZOFFSETTO:-0400
TZNAME:EDT
DTSTART:20260308T070000
END:DAYLIGHT
BEGIN:STANDARD
TZOFFSETFROM:-0400
TZOFFSETTO:-0500
TZNAME:EST
DTSTART:20261101T060000
END:STANDARD
BEGIN:DAYLIGHT
TZOFFSETFROM:-0500
TZOFFSETTO:-0400
TZNAME:EDT
DTSTART:20270314T070000
END:DAYLIGHT
BEGIN:STANDARD
TZOFFSETFROM:-0400
TZOFFSETTO:-0500
TZNAME:EST
DTSTART:20271107T060000
END:STANDARD
END:VTIMEZONE
BEGIN:VEVENT
DTSTART;TZID=America/New_York:20260428T100000
DTEND;TZID=America/New_York:20260428T160000
DTSTAMP:20260422T164918
CREATED:20260306T155814Z
LAST-MODIFIED:20260306T155814Z
UID:1988-1777370400-1777392000@atlibertyconnections.org
SUMMARY:All Male Veterans Retreat
DESCRIPTION:Multi-discipline activities offered: \n\nUnmounted equine experiences\nHorsemanship\nFrontier skills and activities\nTrail walks\nFellowship and more
URL:https://atlibertyconnections.org/event/all-male-veterans-retreat/
LOCATION:Full Circle Farm\, 80 Edgell Road\, Newport\, NH\, 03773\, United States
CATEGORIES:Veteran Retreats
ATTACH;FMTTYPE=image/webp:https://atlibertyconnections.org/wp-content/uploads/2026/03/full-circle-farms-aireal-c.webp
ORGANIZER;CN="Dr. Kathleen Roth":MAILTO:info@atlibertyconnections.org
END:VEVENT
BEGIN:VEVENT
DTSTART;VALUE=DATE:20260605
DTEND;VALUE=DATE:20260608
DTSTAMP:20260422T164918
CREATED:20260202T152857Z
LAST-MODIFIED:20260306T153818Z
UID:1975-1780617600-1780876799@atlibertyconnections.org
SUMMARY:All Women Veterans Retreat NH with Camp Resilience
DESCRIPTION:Women veterans retreat in collaboration with Camp Resilience. Experience a quiet presence and a sense of belonging through equine interaction. Come join us and feel the healing power of the horse.
URL:https://atlibertyconnections.org/event/veterans-retreat-nh-4/
LOCATION:UpReach Therapeutic Equestrian Center\, 153 Paige Hill Road\, Goffstown\, NH\, 03045\, United States
CATEGORIES:Veteran Retreats
ATTACH;FMTTYPE=image/jpeg:https://atlibertyconnections.org/wp-content/uploads/2026/02/ALC-NH-Retreat.jpg
ORGANIZER;CN="Dr. Kathleen Roth":MAILTO:info@atlibertyconnections.org
END:VEVENT
BEGIN:VEVENT
DTSTART;VALUE=DATE:20261106
DTEND;VALUE=DATE:20261109
DTSTAMP:20260422T164918
CREATED:20260202T151748Z
LAST-MODIFIED:20260202T151748Z
UID:1973-1793923200-1794182399@atlibertyconnections.org
SUMMARY:Veterans Retreat NC
DESCRIPTION:Experience a quiet presence and a sense of belonging through equine interaction. Come join us and feel the healing power of the horse.
URL:https://atlibertyconnections.org/event/veterans-retreat-nc-8/
LOCATION:Willetts Horse Farm\, 810 McKay Rd SE\, Boliva\, NC\, 28422
CATEGORIES:Veteran Retreats
ATTACH;FMTTYPE=image/jpeg:https://atlibertyconnections.org/wp-content/uploads/2024/06/retreat-welcome-sign-Small.jpg
ORGANIZER;CN="Dr. Kathleen Roth":MAILTO:info@atlibertyconnections.org
END:VEVENT
END:VCALENDAR