BEGIN:VCALENDAR
VERSION:2.0
PRODID:-//𝘈𝘵 𝘓𝘪𝘣𝘦𝘳𝘵𝘺 CONNECTIONS - ECPv6.15.20//NONSGML v1.0//EN
CALSCALE:GREGORIAN
METHOD:PUBLISH
X-WR-CALNAME:𝘈𝘵 𝘓𝘪𝘣𝘦𝘳𝘵𝘺 CONNECTIONS
X-ORIGINAL-URL:https://atlibertyconnections.org
X-WR-CALDESC:Events for 𝘈𝘵 𝘓𝘪𝘣𝘦𝘳𝘵𝘺 CONNECTIONS
REFRESH-INTERVAL;VALUE=DURATION:PT1H
X-Robots-Tag:noindex
X-PUBLISHED-TTL:PT1H
BEGIN:VTIMEZONE
TZID:America/New_York
BEGIN:DAYLIGHT
TZOFFSETFROM:-0500
TZOFFSETTO:-0400
TZNAME:EDT
DTSTART:20240310T070000
END:DAYLIGHT
BEGIN:STANDARD
TZOFFSETFROM:-0400
TZOFFSETTO:-0500
TZNAME:EST
DTSTART:20241103T060000
END:STANDARD
BEGIN:DAYLIGHT
TZOFFSETFROM:-0500
TZOFFSETTO:-0400
TZNAME:EDT
DTSTART:20250309T070000
END:DAYLIGHT
BEGIN:STANDARD
TZOFFSETFROM:-0400
TZOFFSETTO:-0500
TZNAME:EST
DTSTART:20251102T060000
END:STANDARD
BEGIN:DAYLIGHT
TZOFFSETFROM:-0500
TZOFFSETTO:-0400
TZNAME:EDT
DTSTART:20260308T070000
END:DAYLIGHT
BEGIN:STANDARD
TZOFFSETFROM:-0400
TZOFFSETTO:-0500
TZNAME:EST
DTSTART:20261101T060000
END:STANDARD
END:VTIMEZONE
BEGIN:VEVENT
DTSTART;TZID=America/New_York:20251121T190000
DTEND;TZID=America/New_York:20251121T220000
DTSTAMP:20260424T175557
CREATED:20240209T170746Z
LAST-MODIFIED:20250218T184327Z
UID:970-1763751600-1763762400@atlibertyconnections.org
SUMMARY:Benefit Concert Back Porch Rockers
DESCRIPTION:Join us for an evening of great food\, drink\, music and dance. The concert benefits programs and events conducted by At Liberty Connections. All ticket proceeds with be used to support At Liberty Connections.
URL:https://atlibertyconnections.org/event/benefit-concert-back-porch-rockers/
LOCATION:Oak Island Moose Lodge\, 4239 Long Beach Rd SE\, SOUTHPORT\, NC\, 28461\, United States
CATEGORIES:Fundraising Events
ATTACH;FMTTYPE=image/webp:https://atlibertyconnections.org/wp-content/uploads/2024/02/back-porch-rockers-at-Moose-lodge-2.webp
ORGANIZER;CN="Dr. Kathleen Roth":MAILTO:info@atlibertyconnections.org
END:VEVENT
BEGIN:VEVENT
DTSTART;TZID=America/New_York:20250726T140000
DTEND;TZID=America/New_York:20250726T160000
DTSTAMP:20260424T175557
CREATED:20250616T010655Z
LAST-MODIFIED:20250616T010754Z
UID:1886-1753538400-1753545600@atlibertyconnections.org
SUMMARY:Benefit Concert Back Porch Rockers
DESCRIPTION:A benefit concert for At Liberty CONNECTIONS an Equine-Assisted services nonprofit serving New Hampshire veterans.
URL:https://atlibertyconnections.org/event/benefit-concert-back-porch-rockers-2/
LOCATION:New London Town Common Bandstand\, New London\, NH
CATEGORIES:Fundraising Events
ATTACH;FMTTYPE=image/webp:https://atlibertyconnections.org/wp-content/uploads/2025/06/Back-Porch-Rockers-at-New-London-NH.webp
ORGANIZER;CN="Dr. Kathleen Roth":MAILTO:info@atlibertyconnections.org
END:VEVENT
BEGIN:VEVENT
DTSTART;VALUE=DATE:20250613
DTEND;VALUE=DATE:20250616
DTSTAMP:20260424T175557
CREATED:20250519T230353Z
LAST-MODIFIED:20250519T230353Z
UID:1875-1749772800-1750031999@atlibertyconnections.org
SUMMARY:You're Fired Fundraiser Event
DESCRIPTION:Date: June 13-15\, 2025\nTime? Friday 11AM – 9PM; Saturday 11AM – 6PM; Sunday 12PM – 5PM\nLocation: You’re FIRED-Paint Your Own Pottery & Mosaics Bedford\, NH (Next to T-Bones & Talbot’s)\nWhat You Will Do:\n\nGo to You’re Fired during and of the time listed. Be sure to tell the staff you are there for this fundraiser.\nChoose a piece of pottery – they have tons of kids stuff like banks and figurines and lost of cool kitchen items like coffee mugs\, canisters and bowls.\nDecorate it – use their paints\, brushes\, stamps and stencils.\nPay for your piece and a studio fee – $8 for adults / $6 for kids\nYour work of art will be glazed\, fired and ready in a week.\nyour fired donates all studio fees to At Liberty CONNECTIONS!
URL:https://atlibertyconnections.org/event/youre-fired-fundraiser-event/
LOCATION:You’re FIRED-Paint Your Own Pottery & Mosaics\, Bedford\, NH
CATEGORIES:Fundraising Events
ATTACH;FMTTYPE=image/jpeg:https://atlibertyconnections.org/wp-content/uploads/2025/05/you-are-fired-fundraiser-header-image.jpg
ORGANIZER;CN="Dr. Kathleen Roth":MAILTO:info@atlibertyconnections.org
END:VEVENT
BEGIN:VEVENT
DTSTART;TZID=America/New_York:20250504T130000
DTEND;TZID=America/New_York:20250504T130000
DTSTAMP:20260424T175557
CREATED:20250328T184612Z
LAST-MODIFIED:20250328T185257Z
UID:1838-1746363600-1746363600@atlibertyconnections.org
SUMMARY:Bowling Fundraiser
DESCRIPTION:At Liberty CONNECTIONS Bowling Fundraiser\n1:00 PM Registration\n2:00 PM Bowling Begins \n$50 per bowler / $200 per team \nEntry fee includes 3 games\, shoes\, pizza and drink. \nSIGN UP NOW!
URL:https://atlibertyconnections.org/event/bowling-fundraiser/
LOCATION:Planet Fun Shallotte\, 349 Whiteville Rd\, Shallotte\, NC\, 28459\, United States
CATEGORIES:Fundraising Events
ATTACH;FMTTYPE=image/webp:https://atlibertyconnections.org/wp-content/uploads/2025/03/Red-and-Yellow-Modern-Bowling-Tournament-Poster.webp
ORGANIZER;CN="Dr. Kathleen Roth":MAILTO:info@atlibertyconnections.org
END:VEVENT
END:VCALENDAR