BEGIN:VCALENDAR
VERSION:2.0
PRODID:-//𝘈𝘵 𝘓𝘪𝘣𝘦𝘳𝘵𝘺 CONNECTIONS - ECPv6.15.20//NONSGML v1.0//EN
CALSCALE:GREGORIAN
METHOD:PUBLISH
X-WR-CALNAME:𝘈𝘵 𝘓𝘪𝘣𝘦𝘳𝘵𝘺 CONNECTIONS
X-ORIGINAL-URL:https://atlibertyconnections.org
X-WR-CALDESC:Events for 𝘈𝘵 𝘓𝘪𝘣𝘦𝘳𝘵𝘺 CONNECTIONS
REFRESH-INTERVAL;VALUE=DURATION:PT1H
X-Robots-Tag:noindex
X-PUBLISHED-TTL:PT1H
BEGIN:VTIMEZONE
TZID:America/New_York
BEGIN:DAYLIGHT
TZOFFSETFROM:-0500
TZOFFSETTO:-0400
TZNAME:EDT
DTSTART:20230312T070000
END:DAYLIGHT
BEGIN:STANDARD
TZOFFSETFROM:-0400
TZOFFSETTO:-0500
TZNAME:EST
DTSTART:20231105T060000
END:STANDARD
BEGIN:DAYLIGHT
TZOFFSETFROM:-0500
TZOFFSETTO:-0400
TZNAME:EDT
DTSTART:20240310T070000
END:DAYLIGHT
BEGIN:STANDARD
TZOFFSETFROM:-0400
TZOFFSETTO:-0500
TZNAME:EST
DTSTART:20241103T060000
END:STANDARD
BEGIN:DAYLIGHT
TZOFFSETFROM:-0500
TZOFFSETTO:-0400
TZNAME:EDT
DTSTART:20250309T070000
END:DAYLIGHT
BEGIN:STANDARD
TZOFFSETFROM:-0400
TZOFFSETTO:-0500
TZNAME:EST
DTSTART:20251102T060000
END:STANDARD
END:VTIMEZONE
BEGIN:VEVENT
DTSTART;VALUE=DATE:20240601
DTEND;VALUE=DATE:20240602
DTSTAMP:20260425T085517
CREATED:20240426T135511Z
LAST-MODIFIED:20240426T135511Z
UID:1417-1717200000-1717286399@atlibertyconnections.org
SUMMARY:Veterans & Spouses Retreat
DESCRIPTION:Experience a quiet presence and a sense of belonging through equine interaction. Come join us and feel the healing power of the horse.
URL:https://atlibertyconnections.org/event/veterans-spouses-retreat/
LOCATION:Willetts Horse Farm\, 810 McKay Rd SE\, Boliva\, NC\, 28422
CATEGORIES:Veteran Retreats
ATTACH;FMTTYPE=image/jpeg:https://atlibertyconnections.org/wp-content/uploads/2023/08/tn_horses-in-barn-at-veterans-retreat.jpg
ORGANIZER;CN="Dr. Kathleen Roth":MAILTO:info@atlibertyconnections.org
END:VEVENT
BEGIN:VEVENT
DTSTART;VALUE=DATE:20240315
DTEND;VALUE=DATE:20240318
DTSTAMP:20260425T085517
CREATED:20240222T162055Z
LAST-MODIFIED:20240222T162055Z
UID:1082-1710460800-1710719999@atlibertyconnections.org
SUMMARY:Veterans Retreat NC
DESCRIPTION:Experience a quiet presence and a sense of belonging through equine interaction. Come join us and feel the healing power of the horse.
URL:https://atlibertyconnections.org/event/veterans-retreat-nc/
LOCATION:Wild Horse Ranch\, 1050 Wild Horse Trail\, Supply\, NC\, 28461\, United States
CATEGORIES:Veteran Retreats
ATTACH;FMTTYPE=image/jpeg:https://atlibertyconnections.org/wp-content/uploads/2024/02/kathy-with-two-horses.jpg
ORGANIZER;CN="Dr. Kathleen Roth":MAILTO:info@atlibertyconnections.org
END:VEVENT
END:VCALENDAR